BEGIN:VCALENDAR
VERSION:2.0
PRODID:-//tccsfba - ECPv6.15.20//NONSGML v1.0//EN
CALSCALE:GREGORIAN
METHOD:PUBLISH
X-ORIGINAL-URL:https://www.tccsfba.org
X-WR-CALDESC:Events for tccsfba
REFRESH-INTERVAL;VALUE=DURATION:PT1H
X-Robots-Tag:noindex
X-PUBLISHED-TTL:PT1H
BEGIN:VTIMEZONE
TZID:America/Los_Angeles
BEGIN:DAYLIGHT
TZOFFSETFROM:-0800
TZOFFSETTO:-0700
TZNAME:PDT
DTSTART:20250309T100000
END:DAYLIGHT
BEGIN:STANDARD
TZOFFSETFROM:-0700
TZOFFSETTO:-0800
TZNAME:PST
DTSTART:20251102T090000
END:STANDARD
BEGIN:DAYLIGHT
TZOFFSETFROM:-0800
TZOFFSETTO:-0700
TZNAME:PDT
DTSTART:20260308T100000
END:DAYLIGHT
BEGIN:STANDARD
TZOFFSETFROM:-0700
TZOFFSETTO:-0800
TZNAME:PST
DTSTART:20261101T090000
END:STANDARD
BEGIN:DAYLIGHT
TZOFFSETFROM:-0800
TZOFFSETTO:-0700
TZNAME:PDT
DTSTART:20270314T100000
END:DAYLIGHT
BEGIN:STANDARD
TZOFFSETFROM:-0700
TZOFFSETTO:-0800
TZNAME:PST
DTSTART:20271107T090000
END:STANDARD
END:VTIMEZONE
BEGIN:VEVENT
DTSTART;TZID=America/Los_Angeles:20260428T170000
DTEND;TZID=America/Los_Angeles:20260428T200000
DTSTAMP:20260423T080115
CREATED:20260321T052735Z
LAST-MODIFIED:20260323T155559Z
UID:5988-1777395600-1777406400@www.tccsfba.org
SUMMARY:薪火相傳青銀共創: 創新創業經驗交談
DESCRIPTION:  \n\n\n  \n\n\n\n\n \n\n \n\n \nMember: FreeNon-Members: FreeYouth Group: Free\n\n\n\n\n\n			You cannot submit this form. Because form submission limit over.
URL:https://www.tccsfba.org/event/svtangles/
LOCATION:Startup Island Taiwan\, 299 California Ave.\, #300\, Palo Alto\, CA\, United States
ATTACH;FMTTYPE=image/jpeg:https://www.tccsfba.org/wp-content/uploads/2026/03/Image-12.jpeg
END:VEVENT
END:VCALENDAR